BEGIN:VCALENDAR
VERSION:2.0
PRODID:-//Laknäs byalag - ECPv6.15.17//NONSGML v1.0//EN
CALSCALE:GREGORIAN
METHOD:PUBLISH
X-ORIGINAL-URL:https://laknas.se
X-WR-CALDESC:Händelser för Laknäs byalag
REFRESH-INTERVAL;VALUE=DURATION:PT1H
X-Robots-Tag:noindex
X-PUBLISHED-TTL:PT1H
BEGIN:VTIMEZONE
TZID:Europe/Stockholm
BEGIN:DAYLIGHT
TZOFFSETFROM:+0100
TZOFFSETTO:+0200
TZNAME:CEST
DTSTART:20240331T010000
END:DAYLIGHT
BEGIN:STANDARD
TZOFFSETFROM:+0200
TZOFFSETTO:+0100
TZNAME:CET
DTSTART:20241027T010000
END:STANDARD
BEGIN:DAYLIGHT
TZOFFSETFROM:+0100
TZOFFSETTO:+0200
TZNAME:CEST
DTSTART:20250330T010000
END:DAYLIGHT
BEGIN:STANDARD
TZOFFSETFROM:+0200
TZOFFSETTO:+0100
TZNAME:CET
DTSTART:20251026T010000
END:STANDARD
BEGIN:DAYLIGHT
TZOFFSETFROM:+0100
TZOFFSETTO:+0200
TZNAME:CEST
DTSTART:20260329T010000
END:DAYLIGHT
BEGIN:STANDARD
TZOFFSETFROM:+0200
TZOFFSETTO:+0100
TZNAME:CET
DTSTART:20261025T010000
END:STANDARD
BEGIN:DAYLIGHT
TZOFFSETFROM:+0100
TZOFFSETTO:+0200
TZNAME:CEST
DTSTART:20270328T010000
END:DAYLIGHT
BEGIN:STANDARD
TZOFFSETFROM:+0200
TZOFFSETTO:+0100
TZNAME:CET
DTSTART:20271031T010000
END:STANDARD
END:VTIMEZONE
BEGIN:VTIMEZONE
TZID:Europe/Paris
BEGIN:DAYLIGHT
TZOFFSETFROM:+0100
TZOFFSETTO:+0200
TZNAME:CEST
DTSTART:20240331T010000
END:DAYLIGHT
BEGIN:STANDARD
TZOFFSETFROM:+0200
TZOFFSETTO:+0100
TZNAME:CET
DTSTART:20241027T010000
END:STANDARD
BEGIN:DAYLIGHT
TZOFFSETFROM:+0100
TZOFFSETTO:+0200
TZNAME:CEST
DTSTART:20250330T010000
END:DAYLIGHT
BEGIN:STANDARD
TZOFFSETFROM:+0200
TZOFFSETTO:+0100
TZNAME:CET
DTSTART:20251026T010000
END:STANDARD
BEGIN:DAYLIGHT
TZOFFSETFROM:+0100
TZOFFSETTO:+0200
TZNAME:CEST
DTSTART:20260329T010000
END:DAYLIGHT
BEGIN:STANDARD
TZOFFSETFROM:+0200
TZOFFSETTO:+0100
TZNAME:CET
DTSTART:20261025T010000
END:STANDARD
END:VTIMEZONE
BEGIN:VEVENT
DTSTART;TZID=Europe/Stockholm:20260202T140000
DTEND;TZID=Europe/Stockholm:20260202T160000
DTSTAMP:20260419T170219
CREATED:20260125T124728Z
LAST-MODIFIED:20260125T124728Z
UID:10000288-1770040800-1770048000@laknas.se
SUMMARY:Pratjunta
DESCRIPTION:
URL:https://laknas.se/kalenderevent/pratjunta/
LOCATION:Byastugan\, Västeråkern 2\, Tällberg\, Dalarna\, 793 94
ATTACH;FMTTYPE=image/jpeg:https://laknas.se/wp-content/uploads/2026/01/Pratjunta-scaled.jpg
END:VEVENT
BEGIN:VEVENT
DTSTART;TZID=Europe/Stockholm:20260125T151500
DTEND;TZID=Europe/Stockholm:20260125T163000
DTSTAMP:20260419T170219
CREATED:20260125T123618Z
LAST-MODIFIED:20260125T123618Z
UID:10000287-1769354100-1769358600@laknas.se
SUMMARY:Informations- och diskussionsmöte
DESCRIPTION:
URL:https://laknas.se/kalenderevent/informations-och-diskussionsmote/
LOCATION:Byastugan\, Västeråkern 2\, Tällberg\, Dalarna\, 793 94
ATTACH;FMTTYPE=image/jpeg:https://laknas.se/wp-content/uploads/2026/01/Info_moete_260125.jpg
END:VEVENT
BEGIN:VEVENT
DTSTART;TZID=Europe/Stockholm:20260113T140000
DTEND;TZID=Europe/Stockholm:20260113T160000
DTSTAMP:20260419T170219
CREATED:20260112T181038Z
LAST-MODIFIED:20260112T185127Z
UID:10000286-1768312800-1768320000@laknas.se
SUMMARY:Byfika i bystugan
DESCRIPTION:
URL:https://laknas.se/kalenderevent/byfika-i-bystugan/
LOCATION:Dalarna
ATTACH;FMTTYPE=image/jpeg:https://laknas.se/wp-content/uploads/2026/01/Byfika260113.jpg
END:VEVENT
BEGIN:VEVENT
DTSTART;TZID=Europe/Paris:20251107T180000
DTEND;TZID=Europe/Paris:20251107T230000
DTSTAMP:20260419T170219
CREATED:20250220T151531Z
LAST-MODIFIED:20251017T082548Z
UID:10000005-1762538400-1762556400@laknas.se
SUMMARY:Pubkväll
DESCRIPTION:Pubkvällen är en medlemsfest för Laknäs Östanhols Byalag \nVarmt välkomna
URL:https://laknas.se/kalenderevent/pubkvall/
LOCATION:Byastugan\, Västeråkern 2\, Tällberg\, Dalarna\, 793 94
ATTACH;FMTTYPE=image/jpeg:https://laknas.se/wp-content/uploads/2025/02/invbild04A.jpg
END:VEVENT
BEGIN:VEVENT
DTSTART;TZID=Europe/Stockholm:20251008T140000
DTEND;TZID=Europe/Stockholm:20251008T170000
DTSTAMP:20260419T170219
CREATED:20251001T104324Z
LAST-MODIFIED:20251001T104324Z
UID:10000284-1759932000-1759942800@laknas.se
SUMMARY:Byfika
DESCRIPTION:Välkomna till byfika i bystugan. Vi fikar och umgås. Lena och Kenneth ordnar en enklare frågesport. \nVi presenterar höstens övriga träffar och lämnar över straffetpinnen till hugade inför vårens träffar \nLena och Kenneth\, Bosse och Eva
URL:https://laknas.se/kalenderevent/byfika/
LOCATION:Byastugan\, Västeråkern 2\, Tällberg\, Dalarna\, 793 94
ATTACH;FMTTYPE=image/jpeg:https://laknas.se/wp-content/uploads/2025/02/bystuga_1_300.jpg
END:VEVENT
BEGIN:VEVENT
DTSTART;TZID=Europe/Paris:20250620T080000
DTEND;TZID=Europe/Paris:20250620T170000
DTSTAMP:20260419T170219
CREATED:20250617T141437Z
LAST-MODIFIED:20250826T110754Z
UID:10000267-1750406400-1750438800@laknas.se
SUMMARY:Midsommarfirande
DESCRIPTION:
URL:https://laknas.se/kalenderevent/midsommarfirande/
LOCATION:Byastugan\, Västeråkern 2\, Tällberg\, Dalarna\, 793 94
ATTACH;FMTTYPE=image/jpeg:https://laknas.se/wp-content/uploads/2025/02/2023-06-22-01.19.27.jpg
END:VEVENT
BEGIN:VEVENT
DTSTART;TZID=Europe/Paris:20250418T170000
DTEND;TZID=Europe/Paris:20250418T220000
DTSTAMP:20260419T170219
CREATED:20250220T151519Z
LAST-MODIFIED:20250826T110904Z
UID:10000004-1744995600-1745013600@laknas.se
SUMMARY:Tidig majbrasa
DESCRIPTION:Tidig majbrasa\n 
URL:https://laknas.se/kalenderevent/tidig-majbrasa/
LOCATION:Byastugan\, Västeråkern 2\, Tällberg\, Dalarna\, 793 94
ATTACH;FMTTYPE=image/jpeg:https://laknas.se/wp-content/uploads/2025/02/Musikerna_musikcafe.jpg
END:VEVENT
BEGIN:VEVENT
DTSTART;TZID=Europe/Paris:20250331T170000
DTEND;TZID=Europe/Paris:20250331T220000
DTSTAMP:20260419T170219
CREATED:20250220T151504Z
LAST-MODIFIED:20250826T110920Z
UID:10000003-1743440400-1743458400@laknas.se
SUMMARY:Korv­grillning
DESCRIPTION:
URL:https://laknas.se/kalenderevent/korvgrillning/
LOCATION:Byastugan\, Västeråkern 2\, Tällberg\, Dalarna\, 793 94
ATTACH;FMTTYPE=image/jpeg:https://laknas.se/wp-content/uploads/2025/02/LaknasMidsommarMatsolsGarden1973.jpg
END:VEVENT
BEGIN:VEVENT
DTSTART;TZID=Europe/Paris:20250224T170000
DTEND;TZID=Europe/Paris:20250224T220000
DTSTAMP:20260419T170219
CREATED:20250220T151449Z
LAST-MODIFIED:20250826T110940Z
UID:10000002-1740416400-1740434400@laknas.se
SUMMARY:Is­segling
DESCRIPTION:Issegling på Siljan
URL:https://laknas.se/kalenderevent/issegling/
LOCATION:Byastugan\, Västeråkern 2\, Tällberg\, Dalarna\, 793 94
ATTACH;FMTTYPE=image/jpeg:https://laknas.se/wp-content/uploads/2025/02/IMG_1150s.jpg
END:VEVENT
BEGIN:VEVENT
DTSTART;TZID=Europe/Paris:20250220T170000
DTEND;TZID=Europe/Paris:20250220T220000
DTSTAMP:20260419T170219
CREATED:20250207T153939Z
LAST-MODIFIED:20250826T111201Z
UID:10000001-1740070800-1740088800@laknas.se
SUMMARY:Vin­provning
DESCRIPTION:Vinprovning av viner från Kosovo – En unik smakupplevelse\nEvenemanget bjuder på en vinprovning med sju olika viner från Kosovo\, inklusive ett mousserande\, två vita och fyra röda viner. De röda vinerna inkluderar druvsorterna Vranac och Prokupa\, kända för sin unika karaktär. \nGuidning och Smakupplevelse\nVinprovningen leds av Valbona Shala\, grundare av Dardania Wine\, som importerar viner från Kosovo till Sverige. Hon kommer att guida deltagarna genom vinernas historia och smaker. Ordförande Sten-Rune bidrar med insikter från sina år i Balkan och jämför de lokala vinerna med sina erfarenheter. \nKvällen inkluderar passande tilltugg (ej en måltid) och kostar 300 kr per person. Efter provningen finns möjlighet att köpa extra glas och beställa viner via Systembolaget. Evenemanget beräknas ta cirka 1\,5 timme men kan förlängas beroende på diskussioner och engagemang.
URL:https://laknas.se/kalenderevent/vinprovning/
LOCATION:Byastugan\, Västeråkern 2\, Tällberg\, Dalarna\, 793 94
ATTACH;FMTTYPE=image/jpeg:https://laknas.se/wp-content/uploads/2025/02/Musikerna_musikcafe.jpg
END:VEVENT
END:VCALENDAR